BEGIN:VCALENDAR
VERSION:2.0
PRODID:-//hacksw/handcal//NONSGML v1.0//EN
BEGIN:VEVENT
UID:11227
DTSTART;VALUE=DATE:20180914
URL;VALUE=URI:ohschonhell.at/?page_id=24715
SUMMARY:Manifest Opening w/ Kornél Kovács (Studio Barnhus\, SWE)
LOCATION:SASS
END:VEVENT
END:VCALENDAR


