BEGIN:VCALENDAR
VERSION:2.0
PRODID:-//hacksw/handcal//NONSGML v1.0//EN
BEGIN:VEVENT
UID:11228
DTSTART;VALUE=DATE:20180913
URL;VALUE=URI:ohschonhell.at/?page_id=24719
SUMMARY:Steve Hope &amp\; Friends Wohnzimmer Edition
LOCATION:SASS
END:VEVENT
END:VCALENDAR


