BEGIN:VCALENDAR
VERSION:2.0
PRODID:-//hacksw/handcal//NONSGML v1.0//EN
BEGIN:VEVENT
UID:11238
DTSTART;VALUE=DATE:20180914
URL;VALUE=URI:ohschonhell.at/?page_id=24778
SUMMARY:GENERATIONENnachhaltigkeits-Konferenz 2018
LOCATION:ARENA
END:VEVENT
END:VCALENDAR


