BEGIN:VCALENDAR
VERSION:2.0
PRODID:-//hacksw/handcal//NONSGML v1.0//EN
BEGIN:VEVENT
UID:1125
DTSTART;VALUE=DATE:20140421
URL;VALUE=URI:ohschonhell.at/?page_id=3595
SUMMARY:offizielle  ECHOSPHERE  goaAFTERhour
LOCATION:BADESCHIFF
END:VEVENT
END:VCALENDAR


