BEGIN:VCALENDAR
VERSION:2.0
PRODID:-//hacksw/handcal//NONSGML v1.0//EN
BEGIN:VEVENT
UID:11269
DTSTART;VALUE=DATE:20180929
URL;VALUE=URI:ohschonhell.at/?page_id=24926
SUMMARY:TANZ AM STROM - BʉnkerMʉkke #10 (OpenAir/Location Closing Party)
LOCATION:Danube Beach
END:VEVENT
END:VCALENDAR


