BEGIN:VCALENDAR
VERSION:2.0
PRODID:-//hacksw/handcal//NONSGML v1.0//EN
BEGIN:VEVENT
UID:11270
DTSTART;VALUE=DATE:20180929
URL;VALUE=URI:ohschonhell.at/?page_id=24928
SUMMARY:Wir fordern Raum at &quot\;Rave for Democrazy!&quot\;
LOCATION:Heldenplatz
END:VEVENT
END:VCALENDAR


