BEGIN:VCALENDAR
VERSION:2.0
PRODID:-//hacksw/handcal//NONSGML v1.0//EN
BEGIN:VEVENT
UID:11273
DTSTART;VALUE=DATE:20180921
URL;VALUE=URI:ohschonhell.at/?page_id=24934
SUMMARY:Heute: 18 Jahre Hypnotic mit Sam Paganini\, Gary Beck\, uvm
LOCATION:Hypnotic - Electronic Dance Festival
END:VEVENT
END:VCALENDAR


