BEGIN:VCALENDAR
VERSION:2.0
PRODID:-//hacksw/handcal//NONSGML v1.0//EN
BEGIN:VEVENT
UID:11276
DTSTART;VALUE=DATE:20180915
URL;VALUE=URI:ohschonhell.at/?page_id=24940
SUMMARY:Yardcore #3 - Bdayz Edition
LOCATION:Café Inspection
END:VEVENT
END:VCALENDAR


