BEGIN:VCALENDAR
VERSION:2.0
PRODID:-//hacksw/handcal//NONSGML v1.0//EN
BEGIN:VEVENT
UID:11283
DTSTART;VALUE=DATE:20180824
URL;VALUE=URI:ohschonhell.at/?page_id=24954
SUMMARY:S P E C T A C U L U M - 2018 ★ Circus for music &amp\; art!
LOCATION:Burgruine Aggstein
END:VEVENT
END:VCALENDAR


