BEGIN:VCALENDAR
VERSION:2.0
PRODID:-//hacksw/handcal//NONSGML v1.0//EN
BEGIN:VEVENT
UID:11295
DTSTART;VALUE=DATE:20180921
URL;VALUE=URI:ohschonhell.at/?page_id=24978
SUMMARY:Midnight Mission | Season Opening w/ TROY
LOCATION:ELEKTRO GÖNNER
END:VEVENT
END:VCALENDAR


