BEGIN:VCALENDAR
VERSION:2.0
PRODID:-//hacksw/handcal//NONSGML v1.0//EN
BEGIN:VEVENT
UID:11298
DTSTART;VALUE=DATE:20181103
URL;VALUE=URI:ohschonhell.at/?page_id=24985
SUMMARY:Art Attech - Der Zweite Streich (SOLD OUT)
LOCATION:Nordbahnhalle
END:VEVENT
END:VCALENDAR


