BEGIN:VCALENDAR
VERSION:2.0
PRODID:-//hacksw/handcal//NONSGML v1.0//EN
BEGIN:VEVENT
UID:11299
DTSTART;VALUE=DATE:20181013
URL;VALUE=URI:ohschonhell.at/?page_id=24987
SUMMARY:Ost Sound
LOCATION:Kramladen
END:VEVENT
END:VCALENDAR


