BEGIN:VCALENDAR
VERSION:2.0
PRODID:-//hacksw/handcal//NONSGML v1.0//EN
BEGIN:VEVENT
UID:11303
DTSTART;VALUE=DATE:20190308
URL;VALUE=URI:ohschonhell.at/?page_id=24995
SUMMARY:SOLD OUT! Paul Kalkbrenner | Wien\, Museumsquartier
LOCATION:Halle EG im MQ
END:VEVENT
END:VCALENDAR


