BEGIN:VCALENDAR
VERSION:2.0
PRODID:-//hacksw/handcal//NONSGML v1.0//EN
BEGIN:VEVENT
UID:11321
DTSTART;VALUE=DATE:20181013
URL;VALUE=URI:ohschonhell.at/?page_id=25033
SUMMARY:Jessas\, fühlt sich das fein an!
LOCATION:OPERA CLUB
END:VEVENT
END:VCALENDAR


