BEGIN:VCALENDAR
VERSION:2.0
PRODID:-//hacksw/handcal//NONSGML v1.0//EN
BEGIN:VEVENT
UID:1135
DTSTART;VALUE=DATE:20140416
URL;VALUE=URI:ohschonhell.at/?page_id=3605
SUMMARY:PRATEREI presents: &quot\;A Mixtape From Our Childhood&quot\; ft. The Twintowas
LOCATION:KIOSK SCHLEIFMÜHLGASSE
END:VEVENT
END:VCALENDAR


