BEGIN:VCALENDAR
VERSION:2.0
PRODID:-//hacksw/handcal//NONSGML v1.0//EN
BEGIN:VEVENT
UID:11354
DTSTART;VALUE=DATE:20181019
URL;VALUE=URI:ohschonhell.at/?page_id=25101
SUMMARY:Marek Hemmann | Horst &amp\; Ritter Butzke
LOCATION:HORST
END:VEVENT
END:VCALENDAR


