BEGIN:VCALENDAR
VERSION:2.0
PRODID:-//hacksw/handcal//NONSGML v1.0//EN
BEGIN:VEVENT
UID:11363
DTSTART;VALUE=DATE:20181005
URL;VALUE=URI:ohschonhell.at/?page_id=25119
SUMMARY:Mutter &quot\;Manifesto&quot\;
LOCATION:SASS
END:VEVENT
END:VCALENDAR


