BEGIN:VCALENDAR
VERSION:2.0
PRODID:-//hacksw/handcal//NONSGML v1.0//EN
BEGIN:VEVENT
UID:11370
DTSTART;VALUE=DATE:20181003
URL;VALUE=URI:ohschonhell.at/?page_id=25133
SUMMARY:Tanz dich glücklich #2
LOCATION:ELEKTRO GÖNNER
END:VEVENT
END:VCALENDAR


