BEGIN:VCALENDAR
VERSION:2.0
PRODID:-//hacksw/handcal//NONSGML v1.0//EN
BEGIN:VEVENT
UID:11372
DTSTART;VALUE=DATE:20181002
URL;VALUE=URI:ohschonhell.at/?page_id=25137
SUMMARY:Techno Tuesday Vienna X Non Funxion
LOCATION:ELEKTRO GÖNNER
END:VEVENT
END:VCALENDAR


