BEGIN:VCALENDAR
VERSION:2.0
PRODID:-//hacksw/handcal//NONSGML v1.0//EN
BEGIN:VEVENT
UID:1140
DTSTART;VALUE=DATE:20140419
URL;VALUE=URI:ohschonhell.at/?page_id=3611
SUMMARY:Afrodisiac + More: Mr. Easter / CHAYA FUERA / SA. 19.04
LOCATION:CHAYA FUERA
END:VEVENT
END:VCALENDAR


