BEGIN:VCALENDAR
VERSION:2.0
PRODID:-//hacksw/handcal//NONSGML v1.0//EN
BEGIN:VEVENT
UID:11416
DTSTART;VALUE=DATE:20181006
URL;VALUE=URI:ohschonhell.at/?page_id=25228
SUMMARY:Teknology | 10 KW Soundsystem
LOCATION:Afterhour Club Premiere
END:VEVENT
END:VCALENDAR


