BEGIN:VCALENDAR
VERSION:2.0
PRODID:-//hacksw/handcal//NONSGML v1.0//EN
BEGIN:VEVENT
UID:11419
DTSTART;VALUE=DATE:20181012
URL;VALUE=URI:ohschonhell.at/?page_id=25236
SUMMARY:DJLine: Disco Frisco
LOCATION:SCHIKANEDER
END:VEVENT
END:VCALENDAR


