BEGIN:VCALENDAR
VERSION:2.0
PRODID:-//hacksw/handcal//NONSGML v1.0//EN
BEGIN:VEVENT
UID:11424
DTSTART;VALUE=DATE:20181109
URL;VALUE=URI:ohschonhell.at/?page_id=25246
SUMMARY:Horst &amp\; Hannelore w. Trentemøller (dj set)
LOCATION:HORST
END:VEVENT
END:VCALENDAR


