BEGIN:VCALENDAR
VERSION:2.0
PRODID:-//hacksw/handcal//NONSGML v1.0//EN
BEGIN:VEVENT
UID:11432
DTSTART;VALUE=DATE:20181019
URL;VALUE=URI:ohschonhell.at/?page_id=25262
SUMMARY:BLVZE X Last Japan
LOCATION:FLUCC
END:VEVENT
END:VCALENDAR


