BEGIN:VCALENDAR
VERSION:2.0
PRODID:-//hacksw/handcal//NONSGML v1.0//EN
BEGIN:VEVENT
UID:11438
DTSTART;VALUE=DATE:20181026
URL;VALUE=URI:ohschonhell.at/?page_id=25275
SUMMARY:Urlaub
LOCATION:ELEKTRO GÖNNER
END:VEVENT
END:VCALENDAR


