BEGIN:VCALENDAR
VERSION:2.0
PRODID:-//hacksw/handcal//NONSGML v1.0//EN
BEGIN:VEVENT
UID:11440
DTSTART;VALUE=DATE:20181020
URL;VALUE=URI:ohschonhell.at/?page_id=25279
SUMMARY:Yoursistercallsmedaddy | 20.10.2018\, Sass
LOCATION:SASS
END:VEVENT
END:VCALENDAR


