BEGIN:VCALENDAR
VERSION:2.0
PRODID:-//hacksw/handcal//NONSGML v1.0//EN
BEGIN:VEVENT
UID:11441
DTSTART;VALUE=DATE:20181019
URL;VALUE=URI:ohschonhell.at/?page_id=25281
SUMMARY:Nylon Reprise 19 Oktober
LOCATION:SASS
END:VEVENT
END:VCALENDAR


