BEGIN:VCALENDAR
VERSION:2.0
PRODID:-//hacksw/handcal//NONSGML v1.0//EN
BEGIN:VEVENT
UID:11451
DTSTART;VALUE=DATE:20181103
URL;VALUE=URI:ohschonhell.at/?page_id=25302
SUMMARY:Viennalizm | Kramladen
LOCATION:Kramladen
END:VEVENT
END:VCALENDAR


