BEGIN:VCALENDAR
VERSION:2.0
PRODID:-//hacksw/handcal//NONSGML v1.0//EN
BEGIN:VEVENT
UID:11457
DTSTART;VALUE=DATE:20181019
URL;VALUE=URI:ohschonhell.at/?page_id=25314
SUMMARY:sama recordings pres. from different angles VII
LOCATION:AU
END:VEVENT
END:VCALENDAR


