BEGIN:VCALENDAR
VERSION:2.0
PRODID:-//hacksw/handcal//NONSGML v1.0//EN
BEGIN:VEVENT
UID:11465
DTSTART;VALUE=DATE:20181026
URL;VALUE=URI:ohschonhell.at/?page_id=25333
SUMMARY:Alles kann\, nichts muss
LOCATION:Pizza Randale
END:VEVENT
END:VCALENDAR


