BEGIN:VCALENDAR
VERSION:2.0
PRODID:-//hacksw/handcal//NONSGML v1.0//EN
BEGIN:VEVENT
UID:11474
DTSTART;VALUE=DATE:20181123
URL;VALUE=URI:ohschonhell.at/?page_id=25351
SUMMARY:sama recordings pres. from different angles VIII
LOCATION:AU
END:VEVENT
END:VCALENDAR


