BEGIN:VCALENDAR
VERSION:2.0
PRODID:-//hacksw/handcal//NONSGML v1.0//EN
BEGIN:VEVENT
UID:11486
DTSTART;VALUE=DATE:20181031
URL;VALUE=URI:ohschonhell.at/?page_id=25375
SUMMARY:MAKAvA rise &amp\; shine
LOCATION:SASS
END:VEVENT
END:VCALENDAR


