BEGIN:VCALENDAR
VERSION:2.0
PRODID:-//hacksw/handcal//NONSGML v1.0//EN
BEGIN:VEVENT
UID:11489
DTSTART;VALUE=DATE:20181027
URL;VALUE=URI:ohschonhell.at/?page_id=25381
SUMMARY:Swing it - Finest Electroswing
LOCATION:ROTE BAR
END:VEVENT
END:VCALENDAR


