BEGIN:VCALENDAR
VERSION:2.0
PRODID:-//hacksw/handcal//NONSGML v1.0//EN
BEGIN:VEVENT
UID:11492
DTSTART;VALUE=DATE:20181024
URL;VALUE=URI:ohschonhell.at/?page_id=25387
SUMMARY:Nachhall
LOCATION:ELEKTRO GÖNNER
END:VEVENT
END:VCALENDAR


