BEGIN:VCALENDAR
VERSION:2.0
PRODID:-//hacksw/handcal//NONSGML v1.0//EN
BEGIN:VEVENT
UID:11493
DTSTART;VALUE=DATE:20181221
URL;VALUE=URI:ohschonhell.at/?page_id=25389
SUMMARY:Horst &amp\; Hannelore w. Kölsch
LOCATION:HORST
END:VEVENT
END:VCALENDAR


