BEGIN:VCALENDAR
VERSION:2.0
PRODID:-//hacksw/handcal//NONSGML v1.0//EN
BEGIN:VEVENT
UID:11496
DTSTART;VALUE=DATE:20181124
URL;VALUE=URI:ohschonhell.at/?page_id=25395
SUMMARY:Apropos BONDI live! (Bar25\, 3000Grad / Berlin)
LOCATION:SASS
END:VEVENT
END:VCALENDAR


