BEGIN:VCALENDAR
VERSION:2.0
PRODID:-//hacksw/handcal//NONSGML v1.0//EN
BEGIN:VEVENT
UID:11505
DTSTART;VALUE=DATE:20181109
URL;VALUE=URI:ohschonhell.at/?page_id=25413
SUMMARY:Acid Techno Techno Club Pt.1
LOCATION:SASS
END:VEVENT
END:VCALENDAR


