BEGIN:VCALENDAR
VERSION:2.0
PRODID:-//hacksw/handcal//NONSGML v1.0//EN
BEGIN:VEVENT
UID:11507
DTSTART;VALUE=DATE:20181104
URL;VALUE=URI:ohschonhell.at/?page_id=25417
SUMMARY:Morgengymnastik x Faith x André Galluzzi (Cocoon Rec.)
LOCATION:SASS
END:VEVENT
END:VCALENDAR


