BEGIN:VCALENDAR
VERSION:2.0
PRODID:-//hacksw/handcal//NONSGML v1.0//EN
BEGIN:VEVENT
UID:11513
DTSTART;VALUE=DATE:20181101
URL;VALUE=URI:ohschonhell.at/?page_id=25429
SUMMARY:Malen Nach Zahlen w/ KRN (Ghostcorp.)
LOCATION:SASS
END:VEVENT
END:VCALENDAR


