BEGIN:VCALENDAR
VERSION:2.0
PRODID:-//hacksw/handcal//NONSGML v1.0//EN
BEGIN:VEVENT
UID:11514
DTSTART;VALUE=DATE:20181101
URL;VALUE=URI:ohschonhell.at/?page_id=25431
SUMMARY:Wiener Brød #3 with Franjazzco
LOCATION:ELEKTRO GÖNNER
END:VEVENT
END:VCALENDAR


