BEGIN:VCALENDAR
VERSION:2.0
PRODID:-//hacksw/handcal//NONSGML v1.0//EN
BEGIN:VEVENT
UID:11520
DTSTART;VALUE=DATE:20181027
URL;VALUE=URI:ohschonhell.at/?page_id=25443
SUMMARY:Franky Greiner &amp\; Frieder Klaris
LOCATION:Heart Club
END:VEVENT
END:VCALENDAR


