BEGIN:VCALENDAR
VERSION:2.0
PRODID:-//hacksw/handcal//NONSGML v1.0//EN
BEGIN:VEVENT
UID:11521
DTSTART;VALUE=DATE:20181003
URL;VALUE=URI:ohschonhell.at/?page_id=25445
SUMMARY:MERKWÜRDIG/Schnittwoch
LOCATION:DONAUTECHNO.COM
END:VEVENT
END:VCALENDAR


