BEGIN:VCALENDAR
VERSION:2.0
PRODID:-//hacksw/handcal//NONSGML v1.0//EN
BEGIN:VEVENT
UID:11522
DTSTART;VALUE=DATE:20181117
URL;VALUE=URI:ohschonhell.at/?page_id=25448
SUMMARY:Löwenzahn meets Kramladen - free party - birthday edition
LOCATION:Kramladen
END:VEVENT
END:VCALENDAR


