BEGIN:VCALENDAR
VERSION:2.0
PRODID:-//hacksw/handcal//NONSGML v1.0//EN
BEGIN:VEVENT
UID:11527
DTSTART;VALUE=DATE:20181121
URL;VALUE=URI:ohschonhell.at/?page_id=25458
SUMMARY:PeaceSpirit ★ Art-Club
LOCATION:Otto Wagner Pavillon Am Karlsplatz
END:VEVENT
END:VCALENDAR


