BEGIN:VCALENDAR
VERSION:2.0
PRODID:-//hacksw/handcal//NONSGML v1.0//EN
BEGIN:VEVENT
UID:11528
DTSTART;VALUE=DATE:20181128
URL;VALUE=URI:ohschonhell.at/?page_id=25460
SUMMARY:PeaceSpirit ★ Art-Club ★ Sause vor Winterpause 8-DJ s &amp\; Live Act
LOCATION:Otto Wagner Pavillon Am Karlsplatz
END:VEVENT
END:VCALENDAR


