BEGIN:VCALENDAR
VERSION:2.0
PRODID:-//hacksw/handcal//NONSGML v1.0//EN
BEGIN:VEVENT
UID:11537
DTSTART;VALUE=DATE:20181116
URL;VALUE=URI:ohschonhell.at/?page_id=25478
SUMMARY:Toner | Opera
LOCATION:OPERA CLUB
END:VEVENT
END:VCALENDAR


