BEGIN:VCALENDAR
VERSION:2.0
PRODID:-//hacksw/handcal//NONSGML v1.0//EN
BEGIN:VEVENT
UID:11554
DTSTART;VALUE=DATE:20181110
URL;VALUE=URI:ohschonhell.at/?page_id=25513
SUMMARY:Astronaughty Episode VIII - HOUSE Edition
LOCATION:CAMERA CLUB
END:VEVENT
END:VCALENDAR


