BEGIN:VCALENDAR
VERSION:2.0
PRODID:-//hacksw/handcal//NONSGML v1.0//EN
BEGIN:VEVENT
UID:11564
DTSTART;VALUE=DATE:20181108
URL;VALUE=URI:ohschonhell.at/?page_id=25533
SUMMARY:Electric Indigo / Klara - Viennale Abschlussparty
LOCATION:Viennale Festivalzentrum
END:VEVENT
END:VCALENDAR


