BEGIN:VCALENDAR
VERSION:2.0
PRODID:-//hacksw/handcal//NONSGML v1.0//EN
BEGIN:VEVENT
UID:11574
DTSTART;VALUE=DATE:20181110
URL;VALUE=URI:ohschonhell.at/?page_id=25554
SUMMARY:DISCO FRISCO | Luster Unten
LOCATION:Luster
END:VEVENT
END:VCALENDAR


