BEGIN:VCALENDAR
VERSION:2.0
PRODID:-//hacksw/handcal//NONSGML v1.0//EN
BEGIN:VEVENT
UID:11579
DTSTART;VALUE=DATE:20181116
URL;VALUE=URI:ohschonhell.at/?page_id=25565
SUMMARY:Sternennacht Techno
LOCATION:Kramladen
END:VEVENT
END:VCALENDAR


